BEGIN:VCALENDAR
VERSION:2.0
PRODID:-//Anzin s&#039;Amuse - ECPv6.15.11//NONSGML v1.0//EN
CALSCALE:GREGORIAN
METHOD:PUBLISH
X-ORIGINAL-URL:https://anzinsamuse.fr
X-WR-CALDESC:Évènements pour Anzin s&#039;Amuse
REFRESH-INTERVAL;VALUE=DURATION:PT1H
X-Robots-Tag:noindex
X-PUBLISHED-TTL:PT1H
BEGIN:VTIMEZONE
TZID:Europe/Paris
BEGIN:DAYLIGHT
TZOFFSETFROM:+0100
TZOFFSETTO:+0200
TZNAME:CEST
DTSTART:20240331T010000
END:DAYLIGHT
BEGIN:STANDARD
TZOFFSETFROM:+0200
TZOFFSETTO:+0100
TZNAME:CET
DTSTART:20241027T010000
END:STANDARD
BEGIN:DAYLIGHT
TZOFFSETFROM:+0100
TZOFFSETTO:+0200
TZNAME:CEST
DTSTART:20250330T010000
END:DAYLIGHT
BEGIN:STANDARD
TZOFFSETFROM:+0200
TZOFFSETTO:+0100
TZNAME:CET
DTSTART:20251026T010000
END:STANDARD
BEGIN:DAYLIGHT
TZOFFSETFROM:+0100
TZOFFSETTO:+0200
TZNAME:CEST
DTSTART:20260329T010000
END:DAYLIGHT
BEGIN:STANDARD
TZOFFSETFROM:+0200
TZOFFSETTO:+0100
TZNAME:CET
DTSTART:20261025T010000
END:STANDARD
END:VTIMEZONE
BEGIN:VEVENT
DTSTART;TZID=Europe/Paris:20251207T140000
DTEND;TZID=Europe/Paris:20251207T183000
DTSTAMP:20260422T182649
CREATED:20250908T212738Z
LAST-MODIFIED:20250908T213042Z
UID:774-1765116000-1765132200@anzinsamuse.fr
SUMMARY:Session du dimanche
DESCRIPTION:
URL:https://anzinsamuse.fr/event/session-du-dimanche-31/
LOCATION:Salle des Asso\, 16 rue Henri Cadot\, Anzin Saint Aubin\, France
CATEGORIES:Session du Dimanche
END:VEVENT
BEGIN:VEVENT
DTSTART;TZID=Europe/Paris:20251219T200000
DTEND;TZID=Europe/Paris:20251219T233000
DTSTAMP:20260422T182649
CREATED:20250908T215147Z
LAST-MODIFIED:20250908T215147Z
UID:816-1766174400-1766187000@anzinsamuse.fr
SUMMARY:Soirée du vendredi 🕐
DESCRIPTION:
URL:https://anzinsamuse.fr/event/soiree-du-vendredi-%f0%9f%95%90-4/
LOCATION:Salle des ainés (Mairie)
CATEGORIES:Soirée du Vendredi
END:VEVENT
END:VCALENDAR