BEGIN:VCALENDAR
VERSION:2.0
PRODID:-//Anzin s&#039;Amuse - ECPv6.15.11//NONSGML v1.0//EN
CALSCALE:GREGORIAN
METHOD:PUBLISH
X-WR-CALNAME:Anzin s&#039;Amuse
X-ORIGINAL-URL:https://anzinsamuse.fr
X-WR-CALDESC:Évènements pour Anzin s&#039;Amuse
REFRESH-INTERVAL;VALUE=DURATION:PT1H
X-Robots-Tag:noindex
X-PUBLISHED-TTL:PT1H
BEGIN:VTIMEZONE
TZID:Europe/Paris
BEGIN:DAYLIGHT
TZOFFSETFROM:+0100
TZOFFSETTO:+0200
TZNAME:CEST
DTSTART:20240331T010000
END:DAYLIGHT
BEGIN:STANDARD
TZOFFSETFROM:+0200
TZOFFSETTO:+0100
TZNAME:CET
DTSTART:20241027T010000
END:STANDARD
BEGIN:DAYLIGHT
TZOFFSETFROM:+0100
TZOFFSETTO:+0200
TZNAME:CEST
DTSTART:20250330T010000
END:DAYLIGHT
BEGIN:STANDARD
TZOFFSETFROM:+0200
TZOFFSETTO:+0100
TZNAME:CET
DTSTART:20251026T010000
END:STANDARD
BEGIN:DAYLIGHT
TZOFFSETFROM:+0100
TZOFFSETTO:+0200
TZNAME:CEST
DTSTART:20260329T010000
END:DAYLIGHT
BEGIN:STANDARD
TZOFFSETFROM:+0200
TZOFFSETTO:+0100
TZNAME:CET
DTSTART:20261025T010000
END:STANDARD
END:VTIMEZONE
BEGIN:VEVENT
DTSTART;TZID=Europe/Paris:20250608T140000
DTEND;TZID=Europe/Paris:20250608T183000
DTSTAMP:20260422T133443
CREATED:20240901T162155Z
LAST-MODIFIED:20240901T163244Z
UID:695-1749391200-1749407400@anzinsamuse.fr
SUMMARY:Session du dimanche
DESCRIPTION:
URL:https://anzinsamuse.fr/event/session-du-dimanche-27/
LOCATION:Salle des Asso\, 16 rue Henri Cadot\, Anzin Saint Aubin\, France
CATEGORIES:Session du Dimanche
ATTACH;FMTTYPE=image/jpeg:https://anzinsamuse.fr/wp-content/uploads/2022/09/image_6483441-scaled.jpg
END:VEVENT
BEGIN:VEVENT
DTSTART;TZID=Europe/Paris:20250612T200000
DTEND;TZID=Europe/Paris:20250612T233000
DTSTAMP:20260422T133443
CREATED:20240901T163030Z
LAST-MODIFIED:20240901T163030Z
UID:717-1749758400-1749771000@anzinsamuse.fr
SUMMARY:Soirée 20 000'
DESCRIPTION:
URL:https://anzinsamuse.fr/event/soiree-20-000-40/
LOCATION:Bar « 20 000 Jeux sous les bières »\, 66 Grand' place\, Arras\, 62000\, France
CATEGORIES:Soirée 20000
ATTACH;FMTTYPE=image/png:https://anzinsamuse.fr/wp-content/uploads/2022/09/9CEEA657-5701-4FB5-A2AC-FDA10590A4C6.png
END:VEVENT
BEGIN:VEVENT
DTSTART;TZID=Europe/Paris:20250624T200000
DTEND;TZID=Europe/Paris:20250624T233000
DTSTAMP:20260422T133443
CREATED:20240901T164051Z
LAST-MODIFIED:20240901T164051Z
UID:738-1750795200-1750807800@anzinsamuse.fr
SUMMARY:Soirée du mardi
DESCRIPTION:
URL:https://anzinsamuse.fr/event/soiree-du-mardi-10/
LOCATION:Salle des Asso\, 16 rue Henri Cadot\, Anzin Saint Aubin\, France
CATEGORIES:Soirée du Mardi
ATTACH;FMTTYPE=image/png:https://anzinsamuse.fr/wp-content/uploads/2022/06/anzin-s-amuse-b76f734048fe41c7970150a360532829.png
END:VEVENT
END:VCALENDAR