BEGIN:VCALENDAR
VERSION:2.0
PRODID:-//Anzin s&#039;Amuse - ECPv6.15.11//NONSGML v1.0//EN
CALSCALE:GREGORIAN
METHOD:PUBLISH
X-WR-CALNAME:Anzin s&#039;Amuse
X-ORIGINAL-URL:https://anzinsamuse.fr
X-WR-CALDESC:Évènements pour Anzin s&#039;Amuse
REFRESH-INTERVAL;VALUE=DURATION:PT1H
X-Robots-Tag:noindex
X-PUBLISHED-TTL:PT1H
BEGIN:VTIMEZONE
TZID:Europe/Paris
BEGIN:DAYLIGHT
TZOFFSETFROM:+0100
TZOFFSETTO:+0200
TZNAME:CEST
DTSTART:20230326T010000
END:DAYLIGHT
BEGIN:STANDARD
TZOFFSETFROM:+0200
TZOFFSETTO:+0100
TZNAME:CET
DTSTART:20231029T010000
END:STANDARD
BEGIN:DAYLIGHT
TZOFFSETFROM:+0100
TZOFFSETTO:+0200
TZNAME:CEST
DTSTART:20240331T010000
END:DAYLIGHT
BEGIN:STANDARD
TZOFFSETFROM:+0200
TZOFFSETTO:+0100
TZNAME:CET
DTSTART:20241027T010000
END:STANDARD
BEGIN:DAYLIGHT
TZOFFSETFROM:+0100
TZOFFSETTO:+0200
TZNAME:CEST
DTSTART:20250330T010000
END:DAYLIGHT
BEGIN:STANDARD
TZOFFSETFROM:+0200
TZOFFSETTO:+0100
TZNAME:CET
DTSTART:20251026T010000
END:STANDARD
END:VTIMEZONE
BEGIN:VEVENT
DTSTART;TZID=Europe/Paris:20241006T140000
DTEND;TZID=Europe/Paris:20241006T183000
DTSTAMP:20260422T102101
CREATED:20240901T161502Z
LAST-MODIFIED:20240901T163532Z
UID:677-1728223200-1728239400@anzinsamuse.fr
SUMMARY:Session du dimanche
DESCRIPTION:
URL:https://anzinsamuse.fr/event/session-du-dimanche-19/
LOCATION:Salle des Asso\, 16 rue Henri Cadot\, Anzin Saint Aubin\, France
CATEGORIES:Session du Dimanche
ATTACH;FMTTYPE=image/jpeg:https://anzinsamuse.fr/wp-content/uploads/2022/09/image_6483441-scaled.jpg
END:VEVENT
BEGIN:VEVENT
DTSTART;TZID=Europe/Paris:20241010T200000
DTEND;TZID=Europe/Paris:20241010T233000
DTSTAMP:20260422T102101
CREATED:20240901T162401Z
LAST-MODIFIED:20240901T162401Z
UID:699-1728590400-1728603000@anzinsamuse.fr
SUMMARY:Soirée 20 000'
DESCRIPTION:
URL:https://anzinsamuse.fr/event/soiree-20-000-32/
LOCATION:Bar « 20 000 Jeux sous les bières »\, 66 Grand' place\, Arras\, 62000\, France
CATEGORIES:Soirée 20000
ATTACH;FMTTYPE=image/png:https://anzinsamuse.fr/wp-content/uploads/2022/09/9CEEA657-5701-4FB5-A2AC-FDA10590A4C6.png
END:VEVENT
BEGIN:VEVENT
DTSTART;TZID=Europe/Paris:20241022T200000
DTEND;TZID=Europe/Paris:20241022T233000
DTSTAMP:20260422T102101
CREATED:20240901T163618Z
LAST-MODIFIED:20240901T163618Z
UID:722-1729627200-1729639800@anzinsamuse.fr
SUMMARY:Soirée du mardi
DESCRIPTION:
URL:https://anzinsamuse.fr/event/soiree-du-mardi-2/
LOCATION:Salle des Asso\, 16 rue Henri Cadot\, Anzin Saint Aubin\, France
CATEGORIES:Soirée du Mardi
ATTACH;FMTTYPE=image/png:https://anzinsamuse.fr/wp-content/uploads/2022/06/anzin-s-amuse-b76f734048fe41c7970150a360532829.png
END:VEVENT
END:VCALENDAR