BEGIN:VCALENDAR
VERSION:2.0
PRODID:-//Anzin s&#039;Amuse - ECPv6.15.11//NONSGML v1.0//EN
CALSCALE:GREGORIAN
METHOD:PUBLISH
X-WR-CALNAME:Anzin s&#039;Amuse
X-ORIGINAL-URL:https://anzinsamuse.fr
X-WR-CALDESC:Évènements pour Anzin s&#039;Amuse
REFRESH-INTERVAL;VALUE=DURATION:PT1H
X-Robots-Tag:noindex
X-PUBLISHED-TTL:PT1H
BEGIN:VTIMEZONE
TZID:Europe/Paris
BEGIN:DAYLIGHT
TZOFFSETFROM:+0100
TZOFFSETTO:+0200
TZNAME:CEST
DTSTART:20230326T010000
END:DAYLIGHT
BEGIN:STANDARD
TZOFFSETFROM:+0200
TZOFFSETTO:+0100
TZNAME:CET
DTSTART:20231029T010000
END:STANDARD
BEGIN:DAYLIGHT
TZOFFSETFROM:+0100
TZOFFSETTO:+0200
TZNAME:CEST
DTSTART:20240331T010000
END:DAYLIGHT
BEGIN:STANDARD
TZOFFSETFROM:+0200
TZOFFSETTO:+0100
TZNAME:CET
DTSTART:20241027T010000
END:STANDARD
BEGIN:DAYLIGHT
TZOFFSETFROM:+0100
TZOFFSETTO:+0200
TZNAME:CEST
DTSTART:20250330T010000
END:DAYLIGHT
BEGIN:STANDARD
TZOFFSETFROM:+0200
TZOFFSETTO:+0100
TZNAME:CET
DTSTART:20251026T010000
END:STANDARD
END:VTIMEZONE
BEGIN:VEVENT
DTSTART;TZID=Europe/Paris:20240310T140000
DTEND;TZID=Europe/Paris:20240310T183000
DTSTAMP:20260423T010133
CREATED:20230723T094828Z
LAST-MODIFIED:20230723T094828Z
UID:610-1710079200-1710095400@anzinsamuse.fr
SUMMARY:Session du dimanche
DESCRIPTION:
URL:https://anzinsamuse.fr/event/session-du-dimanche-15/
LOCATION:Salle des Asso\, 16 rue Henri Cadot\, Anzin Saint Aubin\, France
CATEGORIES:Session du Dimanche
ATTACH;FMTTYPE=image/jpeg:https://anzinsamuse.fr/wp-content/uploads/2022/09/image_6483441-scaled.jpg
END:VEVENT
BEGIN:VEVENT
DTSTART;TZID=Europe/Paris:20240314T200000
DTEND;TZID=Europe/Paris:20240315T000000
DTSTAMP:20260423T010133
CREATED:20230723T170812Z
LAST-MODIFIED:20230723T170812Z
UID:642-1710446400-1710460800@anzinsamuse.fr
SUMMARY:Soirée 20 000'
DESCRIPTION:
URL:https://anzinsamuse.fr/event/soiree-20-000-23/
LOCATION:Bar « 20 000 Jeux sous les bières »\, 66 Grand' place\, Arras\, 62000\, France
CATEGORIES:Soirée 20000
ATTACH;FMTTYPE=image/png:https://anzinsamuse.fr/wp-content/uploads/2022/09/9CEEA657-5701-4FB5-A2AC-FDA10590A4C6.png
END:VEVENT
BEGIN:VEVENT
DTSTART;TZID=Europe/Paris:20240319T200000
DTEND;TZID=Europe/Paris:20240320T000000
DTSTAMP:20260423T010133
CREATED:20230723T170855Z
LAST-MODIFIED:20230903T090339Z
UID:644-1710878400-1710892800@anzinsamuse.fr
SUMMARY:Soirée 20 000'
DESCRIPTION:
URL:https://anzinsamuse.fr/event/soiree-20-000-24/
LOCATION:Bar « 20 000 Jeux sous les bières »\, 66 Grand' place\, Arras\, 62000\, France
CATEGORIES:Soirée 20000
ATTACH;FMTTYPE=image/png:https://anzinsamuse.fr/wp-content/uploads/2022/09/9CEEA657-5701-4FB5-A2AC-FDA10590A4C6.png
END:VEVENT
END:VCALENDAR